BEGIN:VCALENDAR
PRODID:-//hacksw/handcal//NONSGML v1.0//EN
VERSION:2.0
METHOD:PUBLISH
BEGIN:VEVENT
DTSTART:20260430T233000Z
DTEND:20260501T010000Z
LOCATION:Hearsay, 2501 East Camelback Road, Phoenix, Arizona 85016
UID:2947920260430T233000ZEPG Season Closer Happy Hour
DTSTAMP:20260423T032924Z
DESCRIPTION:\nPlease join CAEPC’s EPG Committee for our season-closing Happy Hour at a new location, [Hearsay](https://www.hearsay-phx.com/?y_source=1_MTA5Mzc3OTI0OC03MTUtbG9jYXRpb24ud2Vic2l0ZQ%3D%3D) (at the Camelback Esplanade). First round is on us. Looking forward to seeing everyone, and please bring a friend! \nDate: Thursday, April 30 \nTime: 4:30 p.m. - 6:00 p.m. \nLocation: [Hearsay](https://www.hearsay-phx.com/?y_source=1_MTA5Mzc3OTI0OC03MTUtbG9jYXRpb24ud2Vic2l0ZQ%3D%3D), 2501 East Camelback Road, Phoenix, Arizona 85016 \n  \n  \n \nThe Emerging Professionals' Group (EPG) of Central Arizona Estate Planning Council (CAEPC) is a vibrant group of younger professionals who are under age 40 or who have less than 10 years of experience. This group is focused on social and educational events for individuals newer to the professions involved with estate planning. The professional demographic includes legal, accounting, investment, insurance, financial planning, and other estate-planning related profession.\n \n \nâ\n \nThank you to our sponsor!\n \n[](https://www.tblaw.com/)\n \n \n \nBy registering for this event, you grant the Central Arizona Estate Planning Council (CAEPC) permission to take photographs or video of you during the event. These images and videos may be used on the CAEPC website, social media pages, and/or in newsletters for promotional purposes.\n
SUMMARY:EPG Season Closer Happy Hour - Central Arizona Estate Planning Council 
PRIORITY:3
BEGIN:VALARM
TRIGGER:PT18H
ACTION:DISPLAY
DESCRIPTION:Reminder
END:VALARM
END:VEVENT
END:VCALENDAR