BEGIN:VCALENDAR
PRODID:-//hacksw/handcal//NONSGML v1.0//EN
VERSION:2.0
METHOD:PUBLISH
BEGIN:VEVENT
DTSTART:20251201T230000Z
DTEND:20251202T013000Z
LOCATION:Liberty Wildlife, 2600 E Elwood Street, Phoenix, AZ 85040
UID:2873220251201T230000ZHoliday Service Project & Mixer
DTSTAMP:20260420T042845Z
DESCRIPTION:\nJoin us for a heartwarming evening of giving back and celebrating the season! We’ll kick off the event with a service project to help make a difference in our community, followed by a festive holiday mixer. Enjoy delicious hors d’oeuvres, drinks (beer, wine & soft drinks), and great company as we connect with colleagues and friends.\n \nMonday, December 1, 2025\n \n4:00 PM – 5:00 PM: Service Project - simple, hands-on tasks that make a big impact, with minimal mess! Dress comfortably and wear closed-toe shoes (sneakers preferred). \n \n5:00 PM – 6:30 PM: Holiday Mixer with Hors d'oeuvres & Drinks\n \nLocation: [Liberty Wildlife](https://libertywildlife.org/about-us/plan-your-visit/), 2600 E Elwood Street, Phoenix, AZ 85040\n \nThe evening will feature a beautiful sunset at 5:20 PM, setting the perfect tone for the season ahead. The event will be outside, so please dress appropriately.\n \nMembers: Free\n \nGuests: $25\n \nThis is a wonderful opportunity to start the holiday season with a spirit of giving and camaraderie. We look forward to seeing you there! Please RSVP by November 30th.\n \nSponsorship opportunities available. Let's talk!\n \n \n \nThank you to our sponsor!\n \n[](https://hunterhagan.cpa/)\n \n \n \n \n
SUMMARY:Holiday Service Project & Mixer - Central Arizona Estate Planning Council 
PRIORITY:3
BEGIN:VALARM
TRIGGER:PT18H
ACTION:DISPLAY
DESCRIPTION:Reminder
END:VALARM
END:VEVENT
END:VCALENDAR