BEGIN:VCALENDAR
PRODID:-//hacksw/handcal//NONSGML v1.0//EN
VERSION:2.0
METHOD:PUBLISH
BEGIN:VEVENT
DTSTART:20250930T233000Z
DTEND:20251001T013000Z
LOCATION:FLINT by Baltaire, 2425 East Camelback Road, Phoenix, Arizona 85016
UID:2853920250930T233000ZEPG September Happy Hour
DTSTAMP:20260420T042651Z
DESCRIPTION:\nPlease join EPG for our season kick-off happy hour from 4:30-6:30 PM on Tuesday, September 30th.  \nLocation: FLINT by Baltaire, 2425 East Camelback Road, Phoenix, Arizona 85016 \n  \nFirst round and small bites will be provided. Hope to see you there! \n  \n \nThe Emerging Professionals' Group (EPG) of Central Arizona Estate Planning Council (CAEPC) is a vibrant group of younger professionals who are under age 40 or who have less than 10 years of experience. This group is focused on social and educational events for individuals newer to the professions involved with estate planning. The professional demographic includes legal, accounting, investment, insurance, financial planning, and other estate-planning related profession.\n \n \nâ\n \nThank you to our sponsor!\n \n[](https://www.tblaw.com/)\n \n \n \nBy registering for this event, you grant the Central Arizona Estate Planning Council (CAEPC) permission to take photographs or video of you during the event. These images and videos may be used on the CAEPC website, social media pages, and/or in newsletters for promotional purposes.\n
SUMMARY:EPG September Happy Hour - Central Arizona Estate Planning Council 
PRIORITY:3
BEGIN:VALARM
TRIGGER:PT18H
ACTION:DISPLAY
DESCRIPTION:Reminder
END:VALARM
END:VEVENT
END:VCALENDAR