BEGIN:VCALENDAR
PRODID:-//hacksw/handcal//NONSGML v1.0//EN
VERSION:2.0
METHOD:PUBLISH
BEGIN:VEVENT
DTSTART:20241010T233000Z
DTEND:20241011T013000Z
LOCATION:FLINT by Baltaire, 2425 East Camelback Road, Phoenix, Arizona 85016
UID:2665420241010T233000ZEPG October Happy Hour
DTSTAMP:20260420T043221Z
DESCRIPTION:\nThank you to our sponsors:\n \n        \n \n  \nPlease join EPG for our season kick-off happy hour from 4:30-6:00 PM on Thursday, October 10th.  \n  \nLocation: FLINT by Baltaire, 2425 East Camelback Road, Phoenix, Arizona 85016 \n  \nFirst round and small bites will be provided. Hope to see you there! \n  \n \nPlease note, the Esplanade is currently under construction. Please see attached maps to review restricted areas and for access to our parking garage and complimentary valet parking.\n \nIf you are using the valet, we recommend you enter valet parking area through Camelback Road.\n \n \n \n \nThe Emerging Professionals' Group (EPG) of Central Arizona Estate Planning Council (CAEPC) is a vibrant group of younger professionals who are under age 40 or who have less than 10 years of experience. This group is focused on social and educational events for individuals newer to the professions involved with estate planning. The professional demographic includes legal, accounting, investment, insurance, financial planning, and other estate-planning related profession.\n \nâ\n
SUMMARY:EPG October Happy Hour - Central Arizona Estate Planning Council 
PRIORITY:3
BEGIN:VALARM
TRIGGER:PT18H
ACTION:DISPLAY
DESCRIPTION:Reminder
END:VALARM
END:VEVENT
END:VCALENDAR