BEGIN:VCALENDAR
PRODID:-//hacksw/handcal//NONSGML v1.0//EN
VERSION:2.0
METHOD:PUBLISH
BEGIN:VEVENT
DTSTART:20241008T000000Z
DTEND:20241008T023000Z
LOCATION:Gainey Ranch Golf Club, 7600 E Gainey Club Dr, Scottsdale, AZ 85258
UID:2613520241008T000000ZOctober Program Meeting
DTSTAMP:20260420T043221Z
DESCRIPTION:\nThank you to our sponsor!\n \n\n \n \n \nTopic: Elder Law and Special Needs Planning: Representing Clients with Diminished Capacity\n \nSpeaker: Bernard A. Krooks, Esq.\n \nBernard A. Krooks is the founding partner of the New York law firm Littman Krooks LLP and chair of its elder law and special needs department. He is the past president of the Arc of Westchester, the largest agency in Westchester County, NY serving people with intellectual and developmental disabilities and their families. A frequent presenter at the Heckerling Institute on Estate Planning and other national estate planning conferences, Mr. Krooks is past chair of the Elder Law Committee of the American College of Trust and Estate Counsel (ACTEC) and past chair of the Elder Law and Special Needs Planning Group of the Real Property, Trust & Estate Law (RPTE) Section of the American Bar Association. He is past president and fellow of the National Academy of Elder Law Attorneys (NAELA), past president and founding member of the New York Chapter of NAELA, past Chair of the Elder Law Section of the New York State Bar Association, and past president of the Special Needs Alliance, a national invitation-only non-profit organization dedicated to assisting individuals with special needs and their families. Mr. Krooks, author of numerous articles on elder law and related topics, is chair of the Elder Law Committee of Trusts & Estates Magazine, and serves on the Wolters Kluwer Financial and Estate Planning Advisory Board and the Advisory Committee of the Heckerling Institute on Estate Planning.\n \nRSVP must be received by 12:00 p.m. on Wednesday, October 2, 2024. Registration will close at this time.\n ------\n\nSubmitting an RSVP for this event implies your agreement [to the following COVID-19 policy](https://admin.naepc.org/assets/Councils/CentralArizona-AZ/userContent/files/CAEPC%202021-2022%20Event%20Policy.doc).\n ------\n\nDinner Menu\n \nSALAD\n \nWedge salad with iceberg, turkey bacon, baby heirloom tomatoes, pear vinaigrette (GF/DF) \n \nENTREE\n \nChicken Cacciatore with peppers, olives, capers, and white wine tomato sauce, on a bed of Spanish rice\n \nVegan: Quinoa with roasted vegetables\n \nDESSERT\n \nDouble fudge chocolate cake (GF/V)\n ------\n\nSchedule\n 5:00 p.m. Networking 6:00 p.m. Dinner 6:20 p.m. Announcements 6:30 p.m. Program 7:30 p.m. Program Concludes ------\n\nThank you to our sponsor!\n \n \n \nAttendees understand and agree that their contact information may be shared with the event sponsor(s).\n ------\n\nEVENT CONDUCT STATEMENT\n \nThe Central Arizona Estate Planning Council (“CAEPC”) is committed to providing all participants at our events with an inclusive and professional environment where they feel comfortable. These events include but are not limited to: educational programs and supplemental activities or programs included as a part of these events; webinars; and virtual and in-person board and committee activities and meetings; or presentations before local councils or to other organizations when speaking on behalf of CAEPC. Participants, who include attendees and their guests, volunteers, vendors, staff, and all others, are expected to conduct themselves in a manner that is welcoming, respectful and free from any form of discrimination, harassment, or retaliation. Disruptive or harassing behavior of any kind will not be tolerated. Participants asked to stop such behavior are expected to comply immediately. In keeping with our commitment to the health and safety of all participants, those who feel ill are asked not to attend in-person events or face to face activities. In the event that a participate feels unwell mid-conference, he/she/they are asked to refrain from attending any portion of the conference that includes face to face activities.\n ------\n\nAttending without a reservation? [Please read this](https://www.caepc.org/assets/Councils/CentralArizona-AZ/library/At%20the%20Door%20Info.pdf).\n \n \n
SUMMARY:October Program Meeting - Central Arizona Estate Planning Council 
PRIORITY:3
BEGIN:VALARM
TRIGGER:PT18H
ACTION:DISPLAY
DESCRIPTION:Reminder
END:VALARM
END:VEVENT
END:VCALENDAR