BEGIN:VCALENDAR
PRODID:-//hacksw/handcal//NONSGML v1.0//EN
VERSION:2.0
METHOD:PUBLISH
BEGIN:VEVENT
DTSTART:20240205T190000Z
DTEND:20240205T233000Z
LOCATION:Gainey Ranch Golf Club, 7600 E. Gainey Club Drive, Scottsdale, AZ 85258
UID:2547920240205T190000ZFebruary Program Meeting
DTSTAMP:20260420T043345Z
DESCRIPTION:\nThank you to our sponsor:\n \n\n \nTopics: Communicating Estate Planning Proposals Using Financial Modeling; Income Tax Deferral for Taxpayers Who Anticipate Selling Appreciated Assets While Living; and Increasing the Income & Estate Tax for Preferred Partnership with Encumbered Real Estate by Future Leveraging\n \nJerome Hesch, JD, Meltzer, Lippe, Goldstein & Breitstone, LLP\n \nJerome M. Hesch is Counsel to the firm’s Business & Real Estate Taxation, Trusts & Estates, Tax Exempt Organizations and Private Wealth & Taxation Practice Groups. Prior to joining the firm, Jerry served as an income tax and estate planning consultant for lawyers and other tax planning professionals throughout the country. Jerry was a consultant for Meltzer, Lippe, Goldstein & Breitstone, LLP, Dorot & Bensimon PL, Jeffrey M. Verdon Law Group and Oshins & Associates LLC.\n \nJerry is the Director of the Notre Dame Tax and Estate Planning Institute and is on the Tax Management Advisory Board. Jerry is a Fellow of the American College of Trusts and Estates Council and the American College of Tax Council. He is also a member of the NAEPC Estate Planning Hall of Fame. He has published numerous articles, Tax Management Portfolios, and co-authored a law school casebook on federal income taxation, now in its fourth edition.\n \nJerry presented papers for the University of Miami Heckerling Institute on Estate Planning, the University of Southern California Tax Institute, the Southern Federal Tax Conference and the New York University Institute on Federal Taxation, among others. He has participated in several bar association projects, including the Drafting Committee for the Revised Uniform Partnership Act.\n \nHe was with the Office of Chief Counsel, Internal Revenue Service (1970-1975) and was a full-time law professor at the University of Miami School of Law and the Albany Law School of Union University for twenty years. He continues to teach courses as an adjunct law professor and has taught courses for Vanderbilt University Law School, University of Miami School of Law Graduate Program in Estate Planning, University of Buffalo School of Law, Florida International School of Law, On-Line LL.M. Programs for University of San Francisco Law School and Boston University School of Law. In addition, he was the Director of the Graduate Program in Estate Planning at the University of Miami from 1982-1992.\n ------\n\nRSVP must be received by 12:00 noon on Wednesday, January 31, 2024. Registration will close at this time.\n ------\n\nSchedule\n 11:45 a.m. Registration Begins 12:15 p.m. Lunch & Announcements 12:30 p.m. Program ------\n\nSubmitting an RSVP for this event implies your agreement [to the following COVID-19 policy](https://www.caepc.org/assets/Councils/CentralArizona-AZ/userContent/files/CAEPC%202021-2022%20Event%20Policy.doc).\n ------\n\nLunch Menu\n \nSalad\n \nWedge salad with iceberg, turkey bacon, baby heirloom tomatoes, pear vinaigrette (GF/DF)\n \nEntrees\n \nChicken Cacciatore with peppers, olives, capers, and white wine tomato sauce, on a bed of Spanish rice\n \nVegan: Quinoa with roasted vegetables\n \nDessert\n \nDouble fudge chocolate cake (GF/V)\n ------\n\nEVENT CONDUCT STATEMENT\n \nThe Central Arizona Estate Planning Council (“CAEPC”) is committed to providing all participants at our events with an inclusive and professional environment where they feel comfortable. These events include but are not limited to: educational programs and supplemental activities or programs included as a part of these events; webinars; and virtual and in-person board and committee activities and meetings; or presentations before local councils or to other organizations when speaking on behalf of CAEPC. Participants, who include attendees and their guests, volunteers, vendors, staff, and all others, are expected to conduct themselves in a manner that is welcoming, respectful and free from any form of discrimination, harassment, or retaliation. Disruptive or harassing behavior of any kind will not be tolerated. Participants asked to stop such behavior are expected to comply immediately. In keeping with our commitment to the health and safety of all participants, those who feel ill are asked not to attend in-person events or face to face activities. In the event that a participate feels unwell mid-conference, he/she/they are asked to refrain from attending any portion of the conference that includes face to face activities.\n ------\n\nAttending without a reservation? [Please read this](https://www.caepc.org/assets/Councils/CentralArizona-AZ/library/At%20the%20Door%20Info.pdf).\n
SUMMARY:February Program Meeting - Central Arizona Estate Planning Council 
PRIORITY:3
BEGIN:VALARM
TRIGGER:PT18H
ACTION:DISPLAY
DESCRIPTION:Reminder
END:VALARM
END:VEVENT
END:VCALENDAR