BEGIN:VCALENDAR
PRODID:-//hacksw/handcal//NONSGML v1.0//EN
VERSION:2.0
METHOD:PUBLISH
BEGIN:VEVENT
DTSTART:20231213T200000Z
DTEND:20231213T213000Z
LOCATION:T&B Hosting, 2525 E. Camelback Road, Seventh Floor, Phoenix, AZ 85016
UID:2534020231213T200000ZEPG Watch Party Event
DTSTAMP:20260420T042843Z
DESCRIPTION:\nThank you to our sponsors:\n \n      \n \n \n \nJoin EPG on Wednesday, December 13th from 1:00 PM to 2:30 PM for the National Webinar: International Tax Concerns for High Net Worth Individuals presented by Chaya Siegfried, CPA, MST. Following the in-person watch party, we will hold a brief review and discussion.\n \nPlease RSVP by December 10th\n \nT&B Hosting, 2525 East Camelback Road, Seventh Floor, Phoenix, AZ 85016\n \nLight refreshments and snacks will be provided, this is NOT a lunch event.\n \nThe Emerging Professionals' Group (EPG) of Central Arizona Estate Planning Council (CAEPC) is a vibrant group of younger professionals who are under age 40 or who have less than 10 years of experience. This group is focused on social and educational events for individuals newer to the professions involved with estate planning. The professional demographic includes legal, accounting, investment, insurance, financial planning, and other estate-planning related profession.\n \nâ\n
SUMMARY:EPG Watch Party Event - Central Arizona Estate Planning Council 
PRIORITY:3
BEGIN:VALARM
TRIGGER:PT18H
ACTION:DISPLAY
DESCRIPTION:Reminder
END:VALARM
END:VEVENT
END:VCALENDAR