BEGIN:VCALENDAR
PRODID:-//hacksw/handcal//NONSGML v1.0//EN
VERSION:2.0
METHOD:PUBLISH
BEGIN:VEVENT
DTSTART:20230418T230000Z
DTEND:20230419T010000Z
LOCATION:FLINT by Baltaire, 2425 E. Camelback Road, Phoenix, AZ 85016
UID:2411520230418T230000ZEPG Happy Hour
DTSTAMP:20260420T042710Z
DESCRIPTION:\nThank you to our sponsors:\n \n      \n \n\n \nThe Emerging Professionals' Group (EPG) of Central Arizona Estate Planning Council (CAEPC) is a vibrant group of younger professionals who are under age 40 or who have less than 10 years of experience. This group is focused on social and educational events for individuals newer to the professions involved with estate planning.  The professional demographic includes legal, accounting, investment, insurance, financial planning, and other estate-planning related profession\n Stop in anytime 4:00-6:00 p.m.  First drink covered, plus light appetizers on hand. Associates/friends who work in estate planning-related professions are also welcome (CAEPC membership not required to RSVP). \n \n
SUMMARY:EPG Happy Hour - Central Arizona Estate Planning Council 
PRIORITY:3
BEGIN:VALARM
TRIGGER:PT18H
ACTION:DISPLAY
DESCRIPTION:Reminder
END:VALARM
END:VEVENT
END:VCALENDAR