BEGIN:VCALENDAR
PRODID:-//hacksw/handcal//NONSGML v1.0//EN
VERSION:2.0
METHOD:PUBLISH
BEGIN:VEVENT
DTSTART:20221206T200000Z
DTEND:20221207T000000Z
LOCATION:St. Mary's Food Bank, 2831 N. 31st Avenue, Phoenix, AZ 85009
UID:2358320221206T200000ZHoliday "Give Back" Event
DTSTAMP:20260420T042602Z
DESCRIPTION:\nFor our Holiday Event, we will be "giving back" by packing emergency food boxes from 1:00 p.m. - 3:00 p.m. at St. Mary's Food Bank, 2831 N. 31st Avenue, Phoenix, AZ 85009. Let's work together to pack these emergency food boxes to help those in our community! PLEASE RSVP EARLY!\n \n\nThis is a FREE event for a member plus one guest.\n\n \nSt. Mary’s Food Bank Alliance distributes 45,000 Emergency Food Boxes, at no cost, to individuals and families in need every month. A majority of those receiving Emergency Food Boxes includes the elderly, children, working families and the homeless.\n\n\n \nParameters: must wear closed toed shoes and all shirts must have a short or long sleeve.\n\n\n \nWe will meet up for a Happy Hour following the event at [State 48 Brewery](https://www.state48brewery.com/), 345 W. Van Buren Street, Phoenix, AZ 85003. Registration includes appetizers and one (1) drink ticket.\n\n\n \n\n \n \n \n \n \n \n \n \n \n \n \n \n
SUMMARY:Holiday "Give Back" Event - Central Arizona Estate Planning Council 
PRIORITY:3
BEGIN:VALARM
TRIGGER:PT18H
ACTION:DISPLAY
DESCRIPTION:Reminder
END:VALARM
END:VEVENT
END:VCALENDAR