BEGIN:VCALENDAR
PRODID:-//hacksw/handcal//NONSGML v1.0//EN
VERSION:2.0
METHOD:PUBLISH
BEGIN:VEVENT
DTSTART:20230307T000000Z
DTEND:20230307T023000Z
LOCATION:Gainey Ranch Golf Club, 7600 E. Gainey Club Drive, Scottsdale, AZ 85258
UID:2311020230307T000000ZMarch Program Meeting
DTSTAMP:20260420T042711Z
DESCRIPTION:\nThank you to our sponsor.\n \n\n \nTopic: Planning with Digital Assets: During Life and Upon Death\n \nJoel Schoenmeyer, JD\n \nJoel Schoenmeyer is Senior Director, Family Wealth Strategies at BMO Family Office, an integrated wealth management provider that serves ultra-affluent individuals, families and family offices across their tax, estate, investment, philanthropic, risk and family capital needs. Joel works closely with ultra-affluent clients to define meaningful personal and estate planning goals and to structure plans to meet them. He assists clients on issues including wealth transfers, charitable/philanthropic planning, and business owner and corporate executive planning. Since graduating from law school, he has practiced solely in the area of trusts and estates, both in law firms and as a solo practitioner. Joel also spent a number of years working for another corporate fiduciary, first in its legal department and then as a Senior Trust Advisor and Team Lead as part of a group dealing with high net worth clients. Immediately prior to joining BMO Family Office, Joel was the National Head of Estate Settlement Services at BMO Wealth Management. Joel graduated with a BA in English with High Honors from Michigan State University in 1992. A member of Phi Beta Kappa, he earned his JD from the University of Michigan Law School in 1996. After spending many years in Illinois, Joel and his wife Ruth (a commercial real estate attorney) recently relocated to the Los Angeles area, where their daughter Sophia is already a senior at UCLA.\n ------\n\nRSVP must be received by 12:00 noon on Wednesday, March 1, 2023. Registration will close at this time.\n ------\n\nSubmitting an RSVP for this event implies your agreement [to the following COVID-19 policy](https://www.caepc.org/assets/Councils/CentralArizona-AZ/userContent/files/CAEPC%202021-2022%20Event%20Policy.doc).\n ------\n\nSchedule\n 5:00 p.m. Networking 6:00 p.m. Dinner 6:20 p.m. Announcements 6:30 p.m. Program 7:30 p.m. Program Concludes ------\n\nDinner Menu\n \nSalad\n \nBaby Greens - Crumbled Feta, Dried Cranberries, & Honey Balsamic Vinaigrette\n \nEntrees\n \nShort Rib: pan sauce, lemon Broccolini, & Garlic Whipped Potatoes (GF/DF)\n \nVegan Option: Mushroom Risotto Cake with grilled asparagus and carrots in a plum sauce\n \nDessert\n \nBerry Tart: dairy free whipped cream (DF)\n ------\n\nEVENT CONDUCT STATEMENT\n \nThe Central Arizona Estate Planning Council (“CAEPC”) is committed to providing all participants at our events with an inclusive and professional environment where they feel comfortable. These events include but are not limited to: educational programs and supplemental activities or programs included as a part of these events; webinars; and virtual and in-person board and committee activities and meetings; or presentations before local councils or to other organizations when speaking on behalf of CAEPC. Participants, who include attendees and their guests, volunteers, vendors, staff, and all others, are expected to conduct themselves in a manner that is welcoming, respectful and free from any form of discrimination, harassment, or retaliation. Disruptive or harassing behavior of any kind will not be tolerated. Participants asked to stop such behavior are expected to comply immediately. In keeping with our commitment to the health and safety of all participants, those who feel ill are asked not to attend in-person events or face to face activities. In the event that a participate feels unwell mid-conference, he/she/they are asked to refrain from attending any portion of the conference that includes face to face activities.\n ------\n\nAttending without a reservation? [Please read this](https://www.caepc.org/assets/Councils/CentralArizona-AZ/library/At%20the%20Door%20Info.pdf).\n
SUMMARY:March Program Meeting - Central Arizona Estate Planning Council 
PRIORITY:3
BEGIN:VALARM
TRIGGER:PT18H
ACTION:DISPLAY
DESCRIPTION:Reminder
END:VALARM
END:VEVENT
END:VCALENDAR