BEGIN:VCALENDAR
PRODID:-//hacksw/handcal//NONSGML v1.0//EN
VERSION:2.0
METHOD:PUBLISH
BEGIN:VEVENT
DTSTART:20221004T000000Z
DTEND:20221004T023000Z
LOCATION:Gainey Ranch Golf Club, 7600 E. Gainey Club Drive, Scottsdale, AZ 85258
UID:2310620221004T000000ZOctober Program Meeting
DTSTAMP:20260420T043343Z
DESCRIPTION:\nThank you to our sponsor.\n \n\n \nTopic: Out of the Estate: Not Out of Reach\n \nMichael Fontanini, MT, CFP®, CLU® is Vice President, Advanced Planning and Design with Lion Street, Inc., a national network of fiercely independent life insurance and wealth management advisors. Michael specializes in developing sophisticated life insurance solutions to meet the sophisticated needs of high net worth and business owner clients of the 190 Lion Street Firms nationwide and manages a team of four advanced case design consultants. Prior to Lion Street, his background consists of diverse experience with several life insurance companies in the areas of personal financial planning, life insurance product development and advanced markets.\n \nMichael has earned a Master of Taxation (MT) Degree and Estate Planning Certificate through the Graduate Tax Program of Villanova University Charles Widger School of Law and Villanova School of Business, as well as the designations of Certified Financial Planner (CFP) and Chartered Life Underwriter (CLU). He is FINRA series 7 and 26 registered, a current member of the Wealth Transfer Committee and Estate Tax Working Group committee for the Association for Advanced Life Underwriting (AALU) and a former member of the Advanced Sales Committee for LIMRA.\n \nMichael is from Des Moines, IA and currently resides in Austin, TX.\n ------\n\nRSVP must be received by 12:00 p.m. on Thursday, September 29, 2022. Registration will close at this time.\n ------\n\nSchedule\n 5:00 p.m. Networking 6:00 p.m. Dinner 6:20 p.m. Announcements 6:30 p.m. Program 7:30 p.m. Program Concludes ------\n\nDinner Menu\n \nSalad\n \nBaby Kale Salad: apples, mixed peppers, creamy champagne dressing (GF/DF)\n \nEntrees\n \nShort Rib: pan sauce, yukon gold smashed potato, charred blue lake green beans (GF/DF)\n \nVegan Option: Mushroom Risotto Cake with grilled asparagus and carrots in a plum sauce\n \nDessert\n \nApple Tart: caramel sauce, dairy free whipped cream (DF)\n ------\n\nEVENT CONDUCT STATEMENT\n \nThe Central Arizona Estate Planning Council (“CAEPC”) is committed to providing all participants at our events with an inclusive and professional environment where they feel comfortable. These events include but are not limited to: educational programs and supplemental activities or programs included as a part of these events; webinars; and virtual and in-person board and committee activities and meetings; or presentations before local councils or to other organizations when speaking on behalf of CAEPC. Participants, who include attendees and their guests, volunteers, vendors, staff, and all others, are expected to conduct themselves in a manner that is welcoming, respectful and free from any form of discrimination, harassment, or retaliation. Disruptive or harassing behavior of any kind will not be tolerated. Participants asked to stop such behavior are expected to comply immediately. In keeping with our commitment to the health and safety of all participants, those who feel ill are asked not to attend in-person events or face to face activities. In the event that a participate feels unwell mid-conference, he/she/they are asked to refrain from attending any portion of the conference that includes face to face activities.\n ------\n\nAttending without a reservation? [Please read this](https://www.caepc.org/assets/Councils/CentralArizona-AZ/library/At%20the%20Door%20Info.pdf).\n ------\n\nSubmitting an RSVP for this event implies your agreement [to the following COVID-19 policy](https://www.caepc.org/assets/Councils/CentralArizona-AZ/userContent/files/CAEPC%202021-2022%20Event%20Policy.doc).\n ------\n\n \n
SUMMARY:October Program Meeting - Central Arizona Estate Planning Council 
PRIORITY:3
BEGIN:VALARM
TRIGGER:PT18H
ACTION:DISPLAY
DESCRIPTION:Reminder
END:VALARM
END:VEVENT
END:VCALENDAR