BEGIN:VCALENDAR
PRODID:-//hacksw/handcal//NONSGML v1.0//EN
VERSION:2.0
METHOD:PUBLISH
BEGIN:VEVENT
DTSTART:20220323T230000Z
DTEND:20220324T000000Z
LOCATION:Virtual via Zoom
UID:2243020220323T230000ZEPG Virtual Education Forum: 10 Things CPAs, Attorneys, and Other Professionals Should Know About IRAs
DTSTAMP:20260420T042908Z
DESCRIPTION:\nThank you to our EPG event sponsor.\n\n\n \n\n \n \n \n\n \nFor emerging professionals in estate planning-related fields. CAEPC membership not required to register.\n \nEligible for 1 hour of AEP® and CPE credit, CFP® credit approval pending. CLE credit at attorney’s discretion.* \n \nJoin via Zoom: https://us02web.zoom.us/j/9218884432 \n \nThe Emerging Professionals' Group (EPG) of Central Arizona Estate Planning Council (CAEPC) is a vibrant group of younger professionals who are under age 40 or who have less than 10 years of experience. This group is focused on social and educational events for individuals newer to the professions involved with estate planning. \n \nThe professional demographic includes legal, accounting, investment, insurance, financial planning, and other estate planning-related professions.\n \nLearn about EPG scholarships for CAEPC membership at the [EPG Page](https://www.caepc.org/council/info).\n \n*A general certificate of completion will be available for those who feel the program satisfies their continuing education requirements and are able to self-file. It is the responsibility of the attendee to determine whether their state, discipline, or designation will allow one to self-file for a distance-learning program.\n \n\n\n\n
SUMMARY:EPG Virtual Education Forum: 10 Things CPAs, Attorneys, and Other Professionals Should Know About IRAs - Central Arizona Estate Planning Council 
PRIORITY:3
BEGIN:VALARM
TRIGGER:PT18H
ACTION:DISPLAY
DESCRIPTION:Reminder
END:VALARM
END:VEVENT
END:VCALENDAR