BEGIN:VCALENDAR
PRODID:-//hacksw/handcal//NONSGML v1.0//EN
VERSION:2.0
METHOD:PUBLISH
BEGIN:VEVENT
DTSTART:20220421T200000Z
DTEND:20220422T000000Z
LOCATION:St. Mary's Food Bank, 2831 N. 31st Avenue, Phoenix, AZ 85009
UID:2242020220421T200000ZSpring Event Give Back and Happy Hour
DTSTAMP:20260420T043107Z
DESCRIPTION:\nThank you to our sponsor.\n \n[](https://hindmanauctions.com/)\n \n \n \nFor our Spring Event, we will be "giving back" by packing emergency food boxes from 1:00 p.m. - 3:00 p.m. at St. Mary's Food Bank, 2831 N. 31st Avenue, Phoenix, AZ 85009. Let's work together to pack these emergency food boxes to help those in our community! \n \nSt. Mary’s Food Bank Alliance distributes 45,000 Emergency Food Boxes, at no cost, to individuals and families in need every month. A majority of those receiving Emergency Food Boxes includes the elderly, children, working families and the homeless.\n \nParameters: must wear closed toed shoes and all shirts must have a short or long sleeve.\n \nWe will meet up for a Happy Hour following the event at [State 48 Brewery](https://www.state48brewery.com/), 345 W. Van Buren Street, Phoenix, AZ 85003. Registration includes appetizers and one (1) drink ticket.\n \n \n
SUMMARY:Spring Event Give Back and Happy Hour - Central Arizona Estate Planning Council 
PRIORITY:3
BEGIN:VALARM
TRIGGER:PT18H
ACTION:DISPLAY
DESCRIPTION:Reminder
END:VALARM
END:VEVENT
END:VCALENDAR