BEGIN:VCALENDAR
PRODID:-//hacksw/handcal//NONSGML v1.0//EN
VERSION:2.0
METHOD:PUBLISH
BEGIN:VEVENT
DTSTART:20220315T190000Z
DTEND:20220315T200000Z
LOCATION:Virtual
UID:2236020220315T190000ZVirtual AEP Event: The Top Three Ways to Use Life Insurance in Charitable Planning
DTSTAMP:20260420T042436Z
DESCRIPTION:\n \n \nThank you to our sponsor.\n \n \n \n[](https://www.tbaz.com/)\n \n \n \n*You do not need to have an AEP designation to attend this event.*\n \n*Event is eligible for one hour of AEP CE; CFP credit is pending. In addition, a general certificate of completion will be available for those who feel the program satisfies their continuing education requirements and are able to self-file.  It is the responsibility of the attendee to determine whether their state, discipline, or designation will allow one to self-file for a distance-learning program.*\n \nLUNCH WILL BE PROVIDED VIA DELIVERY FROM PANERA BREAD. Lunch will be delivered to your home or office from Panera (restrictions apply). You will receive a one-time virtual event code that you’ll use on Panera’s website or app about 36 hours prior to the webinar. You can place your order anytime after receiving the code for the day of the webinar! Maximum amount $20 per person, only one meal per person. [Click here to view the menu](https://urldefense.com/v3/__https:/www.panerabread.com/en-us/home.html?msclkid=bdd4db71f3eb18dd3c2fbbfab6c0b2ec&utm_source=bing&utm_medium=cpc&utm_campaign=Holistic_Strangers*2BVisitors_Brand-Core_Brand_Exact&utm_term=panera*20bread&utm_content=Core*20Terms&gclid=bdd4db71f3eb18dd3c2fbbfab6c0b2ec&gclsrc=3p.ds__;JSUl!!Cz2fjcuE!3M5-qcDO12T5M9N4cyEBJSSYEdu91efUZTFUv_2NtFOplnA9tWR_DaacMoBI9HG6KVLSyrFGyg$)!\n \nPLEASE RSVP BY FRIDAY, MARCH 11, 2022.\n ------\n\nInterested in obtaining the Accredited Estate Planner® designation? A council nomination will provide a 50% discount on the application fee, an exemption from the professional references, and reduce the 15 years’ estate planning experience requirement to 10 years for exemption from the education courses. Go the CAEPC site’s [AEP® page](https://www.caepc.org/council/aboutAddl) for more information.\n
SUMMARY:Virtual AEP Event: The Top Three Ways to Use Life Insurance in Charitable Planning - Central Arizona Estate Planning Council 
PRIORITY:3
BEGIN:VALARM
TRIGGER:PT18H
ACTION:DISPLAY
DESCRIPTION:Reminder
END:VALARM
END:VEVENT
END:VCALENDAR