BEGIN:VCALENDAR
PRODID:-//hacksw/handcal//NONSGML v1.0//EN
VERSION:2.0
METHOD:PUBLISH
BEGIN:VEVENT
DTSTART:20220119T230000Z
DTEND:20220120T000000Z
LOCATION:Virtual via Zoom
UID:2219220220119T230000ZEPG Virtual Education Forum: What CPAs, Attorneys, and Other Professionals Need to Know About Social Security Claiming Strategies
DTSTAMP:20260420T042441Z
DESCRIPTION:\nThank you to our EPG event sponsor.\n \n[](https://www.northerntrust.com/united-states/what-we-do/wealth-management?utm_source=google&utm_medium=ppc&utm_campaign=wm-us-content&gclid=Cj0KCQiA2sqOBhCGARIsAPuPK0hNIUrTZmGe35OHQZYr6uPJ3CpLXFbnYTTrMv3j_POzgS0hYLUY64oaAgcfEALw_wcB)\n \n \n \n\n \n \n \nFor emerging professionals in estate planning-related fields. CAEPC membership not required to register.\n \nEligible for 1 hour of AEP® and CPE credit, CFP® credit approval pending. CLE credit at attorney’s discretion.*\n \n \n \nJoin via Zoom: https://us02web.zoom.us/j/9218884432 \n \nThe Emerging Professionals' Group (EPG) of Central Arizona Estate Planning Council (CAEPC) is a vibrant group of younger professionals who are 40 years of age or younger or who have less than 10 years of experience. This group is focused on social and educational events for individuals newer to the professions involved with estate planning.   \n \nThe professional demographic includes legal, accounting, investment, insurance, financial planning, and other related professions. It is an excellent group of growth-oriented professionals who are becoming more entrenched in the estate planning profession and getting involved in CAEPC.\n \n*A general certificate of completion will be available for those who feel the program satisfies their continuing education requirements and are able to self-file. It is the responsibility of the attendee to determine whether their state, discipline, or designation will allow one to self-file for a distance-learning program. \n  ------\n\nThank you to our EPG event sponsor.\n \n[](https://www.northerntrust.com/united-states/what-we-do/wealth-management?utm_source=google&utm_medium=ppc&utm_campaign=wm-us-content&gclid=Cj0KCQiA2sqOBhCGARIsAPuPK0hNIUrTZmGe35OHQZYr6uPJ3CpLXFbnYTTrMv3j_POzgS0hYLUY64oaAgcfEALw_wcB)\n
SUMMARY:EPG Virtual Education Forum: What CPAs, Attorneys, and Other Professionals Need to Know About Social Security Claiming Strategies - Central Arizona Estate Planning Council 
PRIORITY:3
BEGIN:VALARM
TRIGGER:PT18H
ACTION:DISPLAY
DESCRIPTION:Reminder
END:VALARM
END:VEVENT
END:VCALENDAR