BEGIN:VCALENDAR
PRODID:-//hacksw/handcal//NONSGML v1.0//EN
VERSION:2.0
METHOD:PUBLISH
BEGIN:VEVENT
DTSTART:20211215T000000Z
DTEND:20211215T010000Z
LOCATION:Cien Agaves - Old Town, 7228 E. First Avenue, Scottsdale, AZ 85251
UID:2203420211215T000000ZEPG Happy Hour
DTSTAMP:20260420T042843Z
DESCRIPTION:\n \n \nThe Emerging Professionals' Group (EPG) of Central Arizona Estate Planning Council (CAEPC) is a vibrant group of younger professionals who are 40 years of age or younger or who have less than 10 years of experience. This group is focused on social and educational events for individuals newer to the professions involved with estate planning.  The professional demographic includes legal, accounting, investment, insurance, financial planning, and other estate-planning related profession\n Stop in anytime 5:00-6:00 p.m. We will be upstairs. First drink covered, plus light appetizers on hand. Associates/friends who work in estate planning-related professions are also welcome (CAEPC membership not required to RSVP). Monthly EPG events will alternate with happy hours and educational forums by Zoom (CE credits may be available). ------\n\nSubmitting an RSVP for this event implies your agreement [to the following COVID-19 policy](/assets/Councils/CentralArizona-AZ/userContent/files/CAEPC%202021-2022%20Event%20Policy(1).doc).\n \n \n
SUMMARY:EPG Happy Hour - Central Arizona Estate Planning Council 
PRIORITY:3
BEGIN:VALARM
TRIGGER:PT18H
ACTION:DISPLAY
DESCRIPTION:Reminder
END:VALARM
END:VEVENT
END:VCALENDAR