BEGIN:VCALENDAR
PRODID:-//hacksw/handcal//NONSGML v1.0//EN
VERSION:2.0
METHOD:PUBLISH
BEGIN:VEVENT
DTSTART:20211116T233000Z
DTEND:20211117T010000Z
LOCATION:Cheesecake Factory, Kierland Commons, 15230 N Scottsdale Rd, AZ 85254 
UID:2190820211116T233000ZAEP® Happy Hour
DTSTAMP:20260420T042826Z
DESCRIPTION:\nFor AEP® designees and those interested in learning about the designation. (CAEPC membership not required to RSVP.)\n \n\n \n \n \n \n \n \n \n \n \n \n \n \n \n \n \n \n \n \n \n \n \n \n Tables will be reserved in the bar area. Stop in anytime 4:30-6:00 p.m. First drink covered, plus light appetizers on hand. Associates/friends who work in estate planning-related professions are also welcome. \n ------\n\n \nThank you to our AEP® sponsor!\n \n[](https://tbaz.com/)\n \nLearn more about becoming an Accredited Estate Planner® at the CAEPC [AEP® Designation site](https://www.caepc.org/council/aboutAddl).\n \nAttorneys, please note: While there are still many benefits with being an AEP® designee, currently the State Bar of Arizona does not allow attorneys to use this and most other designations in marketing/advertising. Contact the [Bar’s Ethics department](https://www.azbar.org/for-lawyers/ethics/) with questions about what is permitted with the AEP® designation. The [Estate Planning Law Specialist (EPLS) Program](https://www.naepc.org/designations/estate-law) may be a suitable alternative in Arizona.\n
SUMMARY:AEP® Happy Hour - Central Arizona Estate Planning Council 
PRIORITY:3
BEGIN:VALARM
TRIGGER:PT18H
ACTION:DISPLAY
DESCRIPTION:Reminder
END:VALARM
END:VEVENT
END:VCALENDAR