BEGIN:VCALENDAR
PRODID:-//hacksw/handcal//NONSGML v1.0//EN
VERSION:2.0
METHOD:PUBLISH
BEGIN:VEVENT
DTSTART:20211207T010000Z
DTEND:20211207T040000Z
LOCATION:Gainey Ranch Golf Club, 7600 E. Gainey Club Drive, Scottsdale, AZ 85258
UID:2189320211207T010000ZHoliday Party
DTSTAMP:20260420T042827Z
DESCRIPTION:\n\n \n \n \nPlease join us in this opportunity to celebrate together!\n \nEnjoy great food, entertainment, and great company!\n \nOne Drink Ticket per Guest Included - Cash Bar.\n \n \n ------\n\nHoliday Menu\n \nCarving Station\n \nPenne & Tortellini Pasta with Grilled Chicken, Shredded Parmesan, Mozzarella & Ricotta Cheeses with Alfredo, Creamy Pesto & Basil Marinara\n \nCaesar Salad: Chopped Romaine, Grated Parmesan Cheese, Seasoned Croutons & Creamy Caesar Dressing\n \nRoasted Vegetable Medley\n \nWarm Garlic Bread\n \nWall of Festive Holiday Donuts\n ------\n\nIf you are not a member and would like to attend, please email [info@caepc.org](mailto:info@caepc.org?subject=CAEPC%20Holiday%20Party).\n ------\n\nThank you to our event sponsor!\n \n[](https://private.bankofamerica.com/sarah.giles/)\n\n      \n ------\n\nAttendees understand and agree that their contact information may be shared with the event sponsor(s).\n ------\n\nEVENT CONDUCT STATEMENT\n \nThe Central Arizona Estate Planning Council (“CAEPC”) is committed to providing all participants at our events with an inclusive and professional environment where they feel comfortable. These events include but are not limited to: educational programs and supplemental activities or programs included as a part of these events; webinars; and virtual and in-person board and committee activities and meetings; or presentations before local councils or to other organizations when speaking on behalf of CAEPC. Participants, who include attendees and their guests, volunteers, vendors, staff, and all others, are expected to conduct themselves in a manner that is welcoming, respectful and free from any form of discrimination, harassment, or retaliation. Disruptive or harassing behavior of any kind will not be tolerated. Participants asked to stop such behavior are expected to comply immediately. In keeping with our commitment to the health and safety of all participants, those who feel ill are asked not to attend in-person events or face to face activities. In the event that a participate feels unwell mid-conference, he/she/they are asked to refrain from attending any portion of the conference that includes face to face activities.\n ------\n\nAttending without a reservation? [Please read this](https://www.caepc.org/assets/Councils/CentralArizona-AZ/library/At%20the%20Door%20Info.pdf).\n
SUMMARY:Holiday Party - Central Arizona Estate Planning Council 
PRIORITY:3
BEGIN:VALARM
TRIGGER:PT18H
ACTION:DISPLAY
DESCRIPTION:Reminder
END:VALARM
END:VEVENT
END:VCALENDAR