BEGIN:VCALENDAR
PRODID:-//hacksw/handcal//NONSGML v1.0//EN
VERSION:2.0
METHOD:PUBLISH
BEGIN:VEVENT
DTSTART:20210520T230000Z
DTEND:20210521T010000Z
LOCATION:Belle's Nashville Kitchen
UID:2098020210520T230000ZCAEPC End of Season Happy Hour!
DTSTAMP:20260420T042650Z
DESCRIPTION:\nCAEPC End of Season Happy Hour Event\n \nEnjoy good company, good food, and good music at this event!\n \nThursday, May 20, 2021 | 4:00 pm. - 6:00 p.m.\n \nBelle's Nashville Kitchen | 7212 E Main Street, Scottsdale, AZ 85251\n \n\n \nFree Registration!\n \n*2 drink tickets and appetizers will be provided*\n ------\n\nThank You to Our Sponsor!\n \n\n \n \n \n \n
SUMMARY:CAEPC End of Season Happy Hour! - Central Arizona Estate Planning Council 
PRIORITY:3
BEGIN:VALARM
TRIGGER:PT18H
ACTION:DISPLAY
DESCRIPTION:Reminder
END:VALARM
END:VEVENT
END:VCALENDAR