BEGIN:VCALENDAR
PRODID:-//hacksw/handcal//NONSGML v1.0//EN
VERSION:2.0
METHOD:PUBLISH
BEGIN:VEVENT
DTSTART:20210429T200000Z
DTEND:20210430T000000Z
LOCATION:St. Mary's Food Bank and Phoenix Country Club
UID:2087220210429T200000ZCAEPC Spring Event
DTSTAMP:20260420T042609Z
DESCRIPTION:\nJoin CAEPC in giving back to the community at St. Mary's Food bank and then enjoy happy hour at the Phoenix Country Club!\n \n\n \n*Appetizers and 2 drink tickets per person will be provided*\n \nThursday, April 29, 2021\n \n1:00 PM - 3:00 PM: Volunteering at St. Mary's Food Bank\n \nSt. Mary's Food Bank: [2831 N 31st Ave, Phoenix, AZ 85009](https://www.bing.com/local?lid=YN63x959020&id=YN63x959020&q=St.+Mary%27s+Food+Bank&name=St.+Mary%27s+Food+Bank&cp=33.47903060913086%7e-112.1247329711914&ppois=33.47903060913086_-112.1247329711914_St.+Mary%27s+Food+Bank)\n \n3:00 PM - 5:00 PM: Happy Hour at Phoenix Country Club\n \nPhoenix Country Club: [2901 N 7th St, Phoenix, AZ 85014](https://www.bing.com/local?lid=YN63x460680&id=YN63x460680&q=Phoenix+Country+Club&name=Phoenix+Country+Club&cp=33.48157501220703%7e-112.06359100341797&ppois=33.48157501220703_-112.06359100341797_Phoenix+Country+Club)\n \nThis event is free for members and guests! \n \n \n \nTo ensure the safety of our members, masks will be required at all times when not eating or drinking. There will be indoor and outdoor space available during the happy hour event.\n ------\n\n \n \nTHANK YOU TO OUR SPONSORS!\n \n[](https://hindmanauctions.com/)\n \n[](http://www.suncornerstone.com/)\n \n \n
SUMMARY:CAEPC Spring Event - Central Arizona Estate Planning Council 
PRIORITY:3
BEGIN:VALARM
TRIGGER:PT18H
ACTION:DISPLAY
DESCRIPTION:Reminder
END:VALARM
END:VEVENT
END:VCALENDAR