BEGIN:VCALENDAR
PRODID:-//hacksw/handcal//NONSGML v1.0//EN
VERSION:2.0
METHOD:PUBLISH
BEGIN:VEVENT
DTSTART:20201208T003000Z
DTEND:20201208T033000Z
LOCATION:Gainey Ranch Golf Club 
UID:2029420201208T003000ZCAEPC Holiday Party
DTSTAMP:20260420T042711Z
DESCRIPTION:\n\n \nDecember 7, 2020 | 5:30 - 8:30 p.m.\n \nGainey Ranch Golf Club | 7600 E. Gainey Club Drive, Scottsdale, AZ 85258\n \nPlease join us in this opportunity to celebrate together with great food and great company! \n \nMembers may bring one guest free of cost.\n \n*This is 21+ event*\n ------\n\nNonmember interested in attending? Email info@caepc.org.\n \n  \n 
SUMMARY:CAEPC Holiday Party - Central Arizona Estate Planning Council 
PRIORITY:3
BEGIN:VALARM
TRIGGER:PT18H
ACTION:DISPLAY
DESCRIPTION:Reminder
END:VALARM
END:VEVENT
END:VCALENDAR