BEGIN:VCALENDAR
PRODID:-//hacksw/handcal//NONSGML v1.0//EN
VERSION:2.0
METHOD:PUBLISH
BEGIN:VEVENT
DTSTART:20210104T230000Z
DTEND:20210105T001500Z
LOCATION:Virtual
UID:1958220210104T230000Z2021 Market Outlook
DTSTAMP:20260420T043107Z
DESCRIPTION:\n2021 Market Outlook\n \n\n \nYung-Yu Ma, Ph.D.\n \nYung-Yu Ma is Chief Investment Strategist for BMO Wealth Management. As Chief Investment Strategist, Yung is responsible for analyzing macroeconomic and market trends, and also performing valuation modeling across asset classes to guide strategic and tactical asset allocations for client portfolios. He joined the organization in 2016 and brings a dynamic combination of academic achievements and industry experience to the Investment Strategy team.\n \nPrior to joining BMO, Yung was a finance professor at Lehigh University, where he taught courses in fixed income, equities and derivatives. His academic studies have been cited in the Wall Street Journal, in leading finance journals, top law journals, the Handbook of High Frequency Trading, and in the Oxford Handbook of Corporate Governance. During his tenure at Lehigh, he was awarded the Staub Outstanding Teacher Award, awarded to one faculty member by a cote of faculty and students. Prior to his academic career, Yung worked for a global consulting firm performing financial and market analysis for global companies with operations in Hong Kong, Taiwan and China. Later, he oversaw the operations at a Fortune 500 subsidiary in Taipei and Mainland China. \n \nYung earned his Ph.D. in Finance at the University of Utah and his B.A. in Economics and Political Science, magna cum laude, at Williams College.\n \nYung lives in Portland, Oregon and enjoys cheering on his son's basketball teams. \n \n \n \nTHANK YOU TO OUR SPONSOR!\n \n\n
SUMMARY:2021 Market Outlook - Central Arizona Estate Planning Council 
PRIORITY:3
BEGIN:VALARM
TRIGGER:PT18H
ACTION:DISPLAY
DESCRIPTION:Reminder
END:VALARM
END:VEVENT
END:VCALENDAR