BEGIN:VCALENDAR
PRODID:-//hacksw/handcal//NONSGML v1.0//EN
VERSION:2.0
METHOD:PUBLISH
BEGIN:VEVENT
DTSTART:20210201T190000Z
DTEND:20210201T234500Z
LOCATION:
UID:1957920210201T190000ZFebruary Continuing Education Event ~ Federal Tax Update 2021 & Estate Planning
DTSTAMP:20260420T043021Z
DESCRIPTION:\nTopic 1: Federal Tax Update 2021\n \n \n \nTopic 2: What the Cool Kids Are Doing in Estate Planning.\n \n \n \nIn light of recent developments, some estate planning strategies have become especially popular. This presentation explains and evaluates several “hot” planning ideas, including spousal lifetime access trusts, charitable remainder trusts as beneficiaries of retirement accounts, ultra-long-term GRATs, and incomplete gift non-grantor trusts.\n \n\n \nSAMUEL A. DONALDSON [J.D. University of Arizona; LL.M. (Taxation) University of Florida]\n \nSamuel A. Donaldson is a Professor of Law at Georgia State University in Atlanta. Prior to joining the Georgia State faculty in 2012, he was on the faculty at the University of Washington School of Law in Seattle for 13 years. During his tenure at the University of Washington, he was a five-time recipient of the Philip A. Trautman Professor of the Year award from the School of Law’s Student Bar Association. Professor Donaldson served for two years as Associate Dean for Academic Administration and for six years as the Director of the law school’s Graduate Program in Taxation. He teaches a number of tax and estate planning courses, as well as courses in the areas of property, commercial law and professional responsibility.\n \nProfessor Donaldson is an Academic Fellow of the American College of Trust and Estate Counsel (ACTEC) and a member of the Bar in Washington, Oregon, and Arizona. Among his scholarly works, he is a co-author of the popular West casebook, Federal Income Tax: A Contemporary Approach, and a co-author of the Price on Contemporary Estate Planning treatise published by Wolters Kluwer. Professor Donaldson has served as the Harry R. Horrow Visiting Professor of International Law at Northwestern University and a Visiting Assistant Professor at the University of Florida Levin College of Law.\n \nAn amateur crossword constructor, his puzzles have been published in The New York Times, The Los Angeles Times, The Washington Post, The Wall Street Journal, and other outlets. A perennial contender for People Magazine’s “Sexiest Man Alive” honor, Professor Donaldson was recently notified by email of his selection to receive substantial sums of money from high-level Nigerian business officials in exchange for his bank account information.\n ------\n\nTHANK YOU TO OUR SPONSORS!\n \n\n \n\n
SUMMARY:February Continuing Education Event ~ Federal Tax Update 2021 & Estate Planning - Central Arizona Estate Planning Council 
PRIORITY:3
BEGIN:VALARM
TRIGGER:PT18H
ACTION:DISPLAY
DESCRIPTION:Reminder
END:VALARM
END:VEVENT
END:VCALENDAR