BEGIN:VCALENDAR
PRODID:-//hacksw/handcal//NONSGML v1.0//EN
VERSION:2.0
METHOD:PUBLISH
BEGIN:VEVENT
DTSTART:20201119T150000Z
DTEND:20201119T160000Z
LOCATION:Olive & Ivy
UID:1955820201119T150000ZEPG Study Group
DTSTAMP:20260420T042650Z
DESCRIPTION:
SUMMARY:EPG Study Group - Central Arizona Estate Planning Council 
PRIORITY:3
BEGIN:VALARM
TRIGGER:PT18H
ACTION:DISPLAY
DESCRIPTION:Reminder
END:VALARM
END:VEVENT
END:VCALENDAR