BEGIN:VCALENDAR
PRODID:-//hacksw/handcal//NONSGML v1.0//EN
VERSION:2.0
METHOD:PUBLISH
BEGIN:VEVENT
DTSTART:20191115T010000Z
DTEND:20191115T030000Z
LOCATION:Postino Kierland - 7030 E Greenway Pkwy, Scottsdale, AZ 85254
UID:1878820191115T010000ZEPG Happy Hour 
DTSTAMP:20260420T043215Z
DESCRIPTION:\nThe Emerging Professionals' Group (EPG) of Central Arizona Estate Planning Council (CAEPC) is a vibrant group of younger professionals who are 40 years of age or younger or who have less than 10 years of experience. This group is focused on social and educational events for individuals newer to the professions involved with estate planning. \n \n\nThe professional demographic includes legal, accounting, investment, insurance, financial planning, and other related professions. It is an excellent group of growth-oriented professionals, who are becoming more entrenched in the estate planning profession and getting involved in CAEPC.\n  \n \nAll events allow ample time for expanding one's professional network or building more substantial relationships with existing acquaintances.  \n
SUMMARY:EPG Happy Hour  - Central Arizona Estate Planning Council 
PRIORITY:3
BEGIN:VALARM
TRIGGER:PT18H
ACTION:DISPLAY
DESCRIPTION:Reminder
END:VALARM
END:VEVENT
END:VCALENDAR