BEGIN:VCALENDAR
PRODID:-//hacksw/handcal//NONSGML v1.0//EN
VERSION:2.0
METHOD:PUBLISH
BEGIN:VEVENT
DTSTART:20191022T143000Z
DTEND:20191022T160000Z
LOCATION:Olive and Ivy - 7135 E. Camelback Road, Scottsdale, AZ 85251
UID:1866220191022T143000ZEPG Study Group
DTSTAMP:20260420T043344Z
DESCRIPTION:\nCAEPC's Emerging Professionals' Group is for anyone (member or nonmember) who is under the age of 40 or has less than 10 years of experience in the industry. It is an opportunity for networking, collaboration, and education. Come join us on October 22nd for the first Study Group event of the 2019-2020 season! The style of this event will be a roundtable discussion on different disciplines within the Council. We look forward to seeing you there!\n ------\n\nThank You to Our Sponsors!\n ------\n\n \n \n \n
SUMMARY:EPG Study Group - Central Arizona Estate Planning Council 
PRIORITY:3
BEGIN:VALARM
TRIGGER:PT18H
ACTION:DISPLAY
DESCRIPTION:Reminder
END:VALARM
END:VEVENT
END:VCALENDAR