BEGIN:VCALENDAR
PRODID:-//hacksw/handcal//NONSGML v1.0//EN
VERSION:2.0
METHOD:PUBLISH
BEGIN:VEVENT
DTSTART:20191120T150000Z
DTEND:20191120T160000Z
LOCATION:SOS Association Management - 7729 E. Greenway Road, #300, Scottsdale, AZ 85260
UID:1866020191120T150000ZFree Webinar Viewing: Growing Your Firm's Revenue using the Non-Grantor Trust State Income Tax Chart
DTSTAMP:20260420T043222Z
DESCRIPTION:\nCAEPC Free Webinar Viewing for Members\n \nGrowing Your Firm's Revenue using the Non-Grantor Trust State Income Tax Chart\n \nSteven J. Oshins , JD, AEP® (Distinguished)\n ------\n\n \n \nAbout the Program\n \nThis program illustrates a number of different opportunities to save state income tax using different non-grantor trust options. The presenter will show the attendees how to use a special two-page 50-state non-grantor trust state income tax chart in order to create opportunities to save state income tax.\n \nAbout the Speaker\n \nSteven J. Oshins, Esq., AEP® (Distinguished) is a member of the Law Offices of Oshins & Associates in Las Vegas, Nevada. He practices in the areas of estate tax planning, income tax planning and asset protection. He was inducted into the NAEPC Estate Planning Hall of Fame in 2011.\n \nContinuing Education Credit\n \n*CFP CE Credit Approved*\n \nContinuing education credit is available at most webinars for Accredited Estate Planner® designees.  In addition, a general certificate of completion will be made available for those professionals who feel the program satisfies their continuing education requirements and are able to self-file.  It is the responsibility of the attendee to determine whether their state, discipline, or designation will allow one to self-file for a distance-learning program. \n \n*Available to the first 15 members to register. Due to limited space, if you are unable to attend, please email Anna Jovel, Account Executive, at info@caepc.org.\n \n \n
SUMMARY:Free Webinar Viewing: Growing Your Firm's Revenue using the Non-Grantor Trust State Income Tax Chart - Central Arizona Estate Planning Council 
PRIORITY:3
BEGIN:VALARM
TRIGGER:PT18H
ACTION:DISPLAY
DESCRIPTION:Reminder
END:VALARM
END:VEVENT
END:VCALENDAR