BEGIN:VCALENDAR
PRODID:-//hacksw/handcal//NONSGML v1.0//EN
VERSION:2.0
METHOD:PUBLISH
BEGIN:VEVENT
DTSTART:20200107T000000Z
DTEND:20200107T023000Z
LOCATION:Gainey Ranch Golf Club - 7600 E. Gainey Club Drive, Scottsdale, AZ 85258
UID:1826120200107T000000ZNorth America Investment Strategy: 2020 Outlook Edition
DTSTAMP:20260420T042603Z
DESCRIPTION:\n \n \n\n \nCharlie Reinhard is the Investment Strategist for the North America region at the Private Bank.\n \nHe is a member of the Office of the Global Chief Investment Strategist and is responsible for identifying investment opportunities and risks in North America across asset classes, as well as representing the [Global Investment Committee’s](https://www.privatebank.citibank.com/home/global-investment-committee.html) views within the region. He is based in New York.\n \nBefore joining the Private Bank in 2017, Charlie was the Chief Portfolio Strategist for New York Life’s MainStay Investments where he led the firm’s investment thought leadership efforts. Previously, Charlie was the Deputy Chief Investment Officer for Morgan Stanley Wealth Management, focusing on investment opportunities and implementation strategies.\n \nCharlie previously heading portfolio strategy and was the Associate Director Research at Neuberger Berman after being the Senior US Equity Strategist at Lehman Brothers.\n \nCharlie has appeared on CNBC, other news broadcasts and in print media. He earned an MBA from New York University’s Stern School of Business and a BS from Carnegie Mellon University.\n ------\n\nDinner Menu\n \nSalad\n - Kale Salad: Apples, Mixed Peppers, Creamy Champagne Dressing (GF/DF)\nEntrees\n - Tri-Tip Steak with Argentinean Chimichurri Served with Herb Roasted New Potatoes with Dill Butter & Sauteed Vegetables (DF/GF)\n - Vegan Option: Gluten-Free Pasta, Artichoke, Olives, Baby Heirloom Tomato, Basil, Citrus White Wine Sauce (DF/GF)\nDessert\n - Double Fudge Chocolate Cake - Vegan Chocolate, Fresh Berry\n ------\n\nThank you to our sponsor!\n \n                  [](https://www.privatebank.citibank.com)\n
SUMMARY:North America Investment Strategy: 2020 Outlook Edition - Central Arizona Estate Planning Council 
PRIORITY:3
BEGIN:VALARM
TRIGGER:PT18H
ACTION:DISPLAY
DESCRIPTION:Reminder
END:VALARM
END:VEVENT
END:VCALENDAR