BEGIN:VCALENDAR
PRODID:-//hacksw/handcal//NONSGML v1.0//EN
VERSION:2.0
METHOD:PUBLISH
BEGIN:VEVENT
DTSTART:20190830T010000Z
DTEND:20190830T030000Z
LOCATION:Cien Agaves - 7228 E. 1st Avenue, Scottsdale, AZ 85251
UID:1815420190830T010000ZEPG Happy Hour
DTSTAMP:20260420T042711Z
DESCRIPTION:\n \n \nThank you to our EPG Sponsor!\n \n \n \n\n
SUMMARY:EPG Happy Hour - Central Arizona Estate Planning Council 
PRIORITY:3
BEGIN:VALARM
TRIGGER:PT18H
ACTION:DISPLAY
DESCRIPTION:Reminder
END:VALARM
END:VEVENT
END:VCALENDAR