BEGIN:VCALENDAR
PRODID:-//hacksw/handcal//NONSGML v1.0//EN
VERSION:2.0
METHOD:PUBLISH
BEGIN:VEVENT
DTSTART:20190217T230000Z
DTEND:20190218T010000Z
LOCATION:Citizens Public House 
UID:1749320190217T230000ZCanceled - Putting Markets in Perspective 
DTSTAMP:20260420T043221Z
DESCRIPTION:\nCanceled- AEP Event\n \n(Everyone Welcome)\n \nPutting Markets in Perspective \n \n \n \nJoin Matthew Melhado, CFA for this timely discussion\n \nMr. Melhado is a vice president and external advisor consultant, responsible for the distribution of all PIMCO mutual funds and managed accounts in the Arizona market. Previously, he was an internal advisor consultant in the New York office. Prior to joining PIMCO in 2010, he was a senior associate at Morgan Stanley, specializing in institutional REPO sales on the U.S. financing desk. He has 11 years of investment and financial services experience and holds an undergraduate degree in finance from James Madison University.\n \n \n \n \n \n \n \n \n
SUMMARY:Canceled - Putting Markets in Perspective  - Central Arizona Estate Planning Council 
PRIORITY:3
BEGIN:VALARM
TRIGGER:PT18H
ACTION:DISPLAY
DESCRIPTION:Reminder
END:VALARM
END:VEVENT
END:VCALENDAR