BEGIN:VCALENDAR
PRODID:-//hacksw/handcal//NONSGML v1.0//EN
VERSION:2.0
METHOD:PUBLISH
BEGIN:VEVENT
DTSTART:20190124T230000Z
DTEND:20190125T010000Z
LOCATION:Citizens Public House 
UID:1714420190124T230000ZAEP Event: Insights to Retirement Planning – Retirement Round-up 
DTSTAMP:20260420T043108Z
DESCRIPTION:\n AEP Event: Insights to Retirement Planning – Retirement Round-up\n \nSponsored by: \n \n\n \n                                                               \n                                                    \n \n                                                               Calivas & Jovanovic\n                                 Financial Strategies Group of Wells Fargo Advisors\n \nLORD ABBETT\n \n \n \n \n \nPresenter: \n \n\n \n \n \n               BRIAN DOBBIS, QKA, QPA, QPFC,TGPC\n                IRA Product Manager, Product Strategy\n \n \n \n \n \n \n \nBrian Dobbis is responsible for managing Lord Abbett's IRA business.\n His areas of expertise include: IRAs, 401(k), 403(b), and 457\n retirement plans.\n Mr. Dobbis joined Lord Abbett in 2002, and held the positions of\n Retirement Consultant, Retirement Research Associate, and\n Retirement Analyst. He began his career in the financial services\n industry in 1997.\n Mr. Dobbis is a frequent guest speaker at wealth management\n conferences throughout the United States.\n The American Society of Pension Professionals and Actuaries\n (ASPPA) recognizes Mr. Dobbis as a Qualified 401(k) Administrator\n (QKA), a Qualified Plan Administrator (QPA), a Qualified Plan Financial\n Consultant (QPFC), and a Tax-Exempt & Governmental Plan\n Consultant (TGPC). He earned a BA in communications from Rowan\n University, and also is a holder of the Series 6, Series 7, Series 63,\n and Series 65 licenses.\n  \n
SUMMARY:AEP Event: Insights to Retirement Planning – Retirement Round-up  - Central Arizona Estate Planning Council 
PRIORITY:3
BEGIN:VALARM
TRIGGER:PT18H
ACTION:DISPLAY
DESCRIPTION:Reminder
END:VALARM
END:VEVENT
END:VCALENDAR