BEGIN:VCALENDAR
PRODID:-//hacksw/handcal//NONSGML v1.0//EN
VERSION:2.0
METHOD:PUBLISH
BEGIN:VEVENT
DTSTART:20190517T010000Z
DTEND:20190517T030000Z
LOCATION:Aunt Chilada's
UID:1666820190517T010000ZEPG Happy Hour 
DTSTAMP:20260420T042442Z
DESCRIPTION:\nJoin us at Aunt Chilada's!\n \n6:00 PM - 8:00 PM\n \nMay 16, 2019\n \nAunt Chilada's 7330 N. Dreamy Draw Dr. Phoenix, AZ 85020\n \n \n \nThank you to our EPG Sponsors:\n [](https://www.tblaw.com/) [](http://vestpointe.com/) [](https://www.arizbank.com/private/wealth/wealth-advisors)\n  
SUMMARY:EPG Happy Hour  - Central Arizona Estate Planning Council 
PRIORITY:3
BEGIN:VALARM
TRIGGER:PT18H
ACTION:DISPLAY
DESCRIPTION:Reminder
END:VALARM
END:VEVENT
END:VCALENDAR