BEGIN:VCALENDAR
PRODID:-//hacksw/handcal//NONSGML v1.0//EN
VERSION:2.0
METHOD:PUBLISH
BEGIN:VEVENT
DTSTART:20190118T010000Z
DTEND:20190118T030000Z
LOCATION:Kitchen 56 
UID:1666720190118T010000ZEPG Happy Hour 
DTSTAMP:20260420T042826Z
DESCRIPTION:\nJoin us at Kitchen 56!\n \n6:00 PM - 8:00 PM\n \nJanuary 17, 2019\n \nKitchen 56  3433 N. 56th Street, Phoenix, AZ 85018\n \nThank you to our EPG Sponsors:\n [](https://www.tblaw.com/) [](http://vestpointe.com/) [](https://www.arizbank.com/private/wealth/wealth-advisors)\n  
SUMMARY:EPG Happy Hour  - Central Arizona Estate Planning Council 
PRIORITY:3
BEGIN:VALARM
TRIGGER:PT18H
ACTION:DISPLAY
DESCRIPTION:Reminder
END:VALARM
END:VEVENT
END:VCALENDAR