BEGIN:VCALENDAR
PRODID:-//hacksw/handcal//NONSGML v1.0//EN
VERSION:2.0
METHOD:PUBLISH
BEGIN:VEVENT
DTSTART:20181019T010000Z
DTEND:20181019T030000Z
LOCATION:The Vig McCormick Ranch
UID:1654120181019T010000ZEPG Happy Hour
DTSTAMP:20260420T042745Z
DESCRIPTION:
SUMMARY:EPG Happy Hour - Central Arizona Estate Planning Council 
PRIORITY:3
BEGIN:VALARM
TRIGGER:PT18H
ACTION:DISPLAY
DESCRIPTION:Reminder
END:VALARM
END:VEVENT
END:VCALENDAR