BEGIN:VCALENDAR
PRODID:-//hacksw/handcal//NONSGML v1.0//EN
VERSION:2.0
METHOD:PUBLISH
BEGIN:VEVENT
DTSTART:20180817T010000Z
DTEND:20180817T030000Z
LOCATION:Camp Social
UID:1654020180817T010000ZEPG Happy Hour
DTSTAMP:20260420T042828Z
DESCRIPTION:\nJoin us at Camp Social!\n \n6:00 PM - 8:00 PM\n \nAugust 16, 2018\n \nCamp Social 6107 7TH STREET PHOENIX, AZ 85014\n \n \n \nThank you to our EPG Sponsors:\n [](https://www.tblaw.com/) [](http://vestpointe.com/) [](https://www.arizbank.com/private/wealth/wealth-advisors) \n                          \n
SUMMARY:EPG Happy Hour - Central Arizona Estate Planning Council 
PRIORITY:3
BEGIN:VALARM
TRIGGER:PT18H
ACTION:DISPLAY
DESCRIPTION:Reminder
END:VALARM
END:VEVENT
END:VCALENDAR