BEGIN:VCALENDAR
PRODID:-//hacksw/handcal//NONSGML v1.0//EN
VERSION:2.0
METHOD:PUBLISH
BEGIN:VEVENT
DTSTART:20180921T010000Z
DTEND:20180920T150000Z
LOCATION:Bluewater Grill
UID:1653620180921T010000ZEPG Study Group: The Most Important but Overlooked Element of Life Insurance Acquisition
DTSTAMP:20260420T042930Z
DESCRIPTION:\nThe Most Important but Overlooked Element of Life Insurance Acquisition\n \n \n \nFacilitator: Emory J. Smith, EJS Financial Management \n  \nTime: 6:00pm - 8:00pm \nLocation: Bluewater Grill \n \nJoin us at Bluewater Grill for the EPG Insurance Study Group Dinner.\n \nDinner  cost is $22 (including soft drinks) per person paid at the door:\n \nDinner menu option are: \n \nSauteed Sandabs with mashed potatoes and sautéed vegetables\n \nGrilled Chicken Breast with mashed potatoes and sautéed vegetables\n \nBay Shrimp Louie Salad\n \nCaesar Salad with Chicken\n \nCheeseburger with French Fries\n \nAdult beverages will be an additional expense.\n \n[Directions to Bluewater Grill](https://www.google.com/maps/place/1720+E+Camelback+Rd,+Phoenix,+AZ+85016/@33.510101,-112.044907,14z/data=!4m5!3m4!1s0x872b0d61a9629ff7:0x1fb16318a9cccf8c!8m2!3d33.5101702!4d-112.0448909?hl=en)\n \n1720 East Camelback Road\n PhoenixAZ85016-4005\n Tel: 602 277 3474\n Fax: 602 277 2543\n \n \n \nThank you to our Sponsors:\n [](https://www.arizbank.com/private/wealth/wealth-advisors) [](http://vestpointe.com/) [](https://www.tblaw.com/) \n 
SUMMARY:EPG Study Group: The Most Important but Overlooked Element of Life Insurance Acquisition - Central Arizona Estate Planning Council 
PRIORITY:3
BEGIN:VALARM
TRIGGER:PT18H
ACTION:DISPLAY
DESCRIPTION:Reminder
END:VALARM
END:VEVENT
END:VCALENDAR