BEGIN:VCALENDAR
PRODID:-//hacksw/handcal//NONSGML v1.0//EN
VERSION:2.0
METHOD:PUBLISH
BEGIN:VEVENT
DTSTART:20190514T010000Z
DTEND:20190514T040000Z
LOCATION:PetSmart Patio at Chase Field!
UID:1622120190514T010000ZBaseball Spring Fling at the Diamondbacks
DTSTAMP:20260420T042828Z
DESCRIPTION:\n\n \nJoin Us at Chase Field\n \nMay 13, 2019\n \nDiamondbacks V. Pittsburgh Pirates\n \nDetails: \n \nThe game starts at 6:40 p.m.\n \nRegistration includes:\n \n1Ticket and All-you-can-eat, unlimited ballpark menu (hot dogs, popcorn, peanuts, chips, soda, & water)\n \n*When registering, please input your cell phone number to receive your ticket via text message.*\n \nThank you to our sponsor:\n \n\n
SUMMARY:Baseball Spring Fling at the Diamondbacks - Central Arizona Estate Planning Council 
PRIORITY:3
BEGIN:VALARM
TRIGGER:PT18H
ACTION:DISPLAY
DESCRIPTION:Reminder
END:VALARM
END:VEVENT
END:VCALENDAR