BEGIN:VCALENDAR
PRODID:-//hacksw/handcal//NONSGML v1.0//EN
VERSION:2.0
METHOD:PUBLISH
BEGIN:VEVENT
DTSTART:20181204T003000Z
DTEND:20181204T030000Z
LOCATION:The Phoenix Zoo
UID:1621820181204T003000ZHoliday Party at the Phoenix Zoo!
DTSTAMP:20260420T042747Z
DESCRIPTION:\n \n \n \n \n\n \nJoin us at Zoolights!\n \n      \n Sponsored By:   \n                          \n \nThe evening schedule:\n \n5:30 - 6:30 pm:  Cocktail Welcome with an up-close Animal Adventure! (Animal Adventure includes 2 animals for an informal meet & greet led by one of our Living Collection staff member.)\n \n6:30 pm-7:30 pm: Dinner followed by dessert, and a coffee - hot chocolate bar.\n \n8:30 pm-10: 30 pm: Stroll through Zoolights!\n \nJoin us at the [Phoenix Zoo](https://www.phoenixzoo.org/plan-your-visit/directions/)!\n \nCAEPC does ask that your guests be 21 or older.\n \nDinner Menu: \nPassed hors-d'oeuvres \nCoconut Chicken Bites Hors D'Oeuvre: Sweet Chili Sauce  \nAsiago Stuffed Dates Hors D'Oeuvre: Honey-Cured Bacon and Smoked Paprika.  \n  \nBuffet Dinner -  \n  \nAntipasto Tray: Balsamic Marinated Cipollini Onions, Pepperoncini, Roasted \nPepper and Petite Mozzarella. [V] \nHoney Lemon Marinated Fruit Salad: Stonefruit, Strawberries, Grapes, \nBlueberries, Pistachios and Honey Lemon Glaze. [V] \nSauteed Chicken Breast: Artichoke Hearts, Sun-Dried Tomatoes, and Marsala Wine Sauce. \nGrilled Flank Steak: Garlic, Rosemary and Black Pepper. \nSpring Vegetable Cavatappi: Baby Spinach, Artichokes, Broccoli, Asparagus, \nPlum tomatoes, Red Onion, Summer Squash and Mushroom Sauce [V] \nRosemary Roasted Potatoes: with Asiago Cheese. [V] \nCaramelized Carrots: with Pearl Onions and Zucchini. [V] \nCountry Bread, Foccacia and Ciabatta with Extra Virgin Olive Oil. [V] \n  \nGourmet Coffee Station [V][L] \n• Featuring Regular and Decaffeinated Caribou Coffee \n• With Shaved Chocolate, Whipped Cream, Cinnamon Sticks and Assorted Flavored Syrups \nHot Herbal Tea  \nHot Chocolate with Whipped Cream 150.00 3 450.00 \n  \nMini Dessert Array \nLimoncello Tartlets, Turtle Brownie Bites, Petite Cheesecakes, Caramel - Hazelnut \nTartlets, Almond-Chambord Raspberry Cakes, Chocolate Dipped Fruit. [V]\n \n \n
SUMMARY:Holiday Party at the Phoenix Zoo! - Central Arizona Estate Planning Council 
PRIORITY:3
BEGIN:VALARM
TRIGGER:PT18H
ACTION:DISPLAY
DESCRIPTION:Reminder
END:VALARM
END:VEVENT
END:VCALENDAR