BEGIN:VCALENDAR
PRODID:-//hacksw/handcal//NONSGML v1.0//EN
VERSION:2.0
METHOD:PUBLISH
BEGIN:VEVENT
DTSTART:20181002T000000Z
DTEND:20181002T023000Z
LOCATION:Orange Tree Golf Club
UID:1621620181002T000000ZHome Employer Payroll, Tax and Liability
DTSTAMP:20260420T042843Z
DESCRIPTION:\nConsumer-Directed Home Care\n \nUnderstanding this rapidly-growing segment of senior care and how to help clients save money and mitigate risk\n \nConsumer-directed home-based care is quickly emerging as a dominant model for affordable senior care.  Although more affordable, it comes with some complexities and risks that are important for advisors to understand and mitigate. \n \nPresenter: \n \n \n \nTom Breedlove\n \nSr. Director, Care.com HomePayâ  \n \nTom brings more than 30 years of business experience, including the last dozen as Director at Breedlove & Associates – now known as Care.com HomePay – a leading household employment specialist.  With a mission to eliminate all the work and worry for busy families and their caregivers, HomePay is the go-to resource for thousands of staffing professionals, accountants, financial advisors and attorneys.\n \nCo-author of The Household Employer’s Financial, Legal & HR Guide, Tom has led the firm’s education and outreach efforts on this complex topic.  His work has helped HomePay become the featured expert on dozens of TV and radio shows as well as countless business, consumer and trade publications.\n \nTom holds a BBA in finance with a minor in accounting from the University of Texas.  Throughout his career, Tom has been an active volunteer and speaker in the financial, marketing and care industries.\n \n \n \nSponsored by:\n \n[](https://www.kotzinvaluation.com/)              [](https://tbaz.com/)\n \n \n \n \n
SUMMARY:Home Employer Payroll, Tax and Liability - Central Arizona Estate Planning Council 
PRIORITY:3
BEGIN:VALARM
TRIGGER:PT18H
ACTION:DISPLAY
DESCRIPTION:Reminder
END:VALARM
END:VEVENT
END:VCALENDAR