BEGIN:VCALENDAR
PRODID:-//hacksw/handcal//NONSGML v1.0//EN
VERSION:2.0
METHOD:PUBLISH
BEGIN:VEVENT
DTSTART:20180119T010000Z
DTEND:20180119T030000Z
LOCATION:O.S.H.O Brewery Arcadia
UID:1511620180119T010000ZHappy New Year Happy Hour
DTSTAMP:20260420T043315Z
DESCRIPTION:
SUMMARY:Happy New Year Happy Hour - Central Arizona Estate Planning Council 
PRIORITY:3
BEGIN:VALARM
TRIGGER:PT18H
ACTION:DISPLAY
DESCRIPTION:Reminder
END:VALARM
END:VEVENT
END:VCALENDAR