BEGIN:VCALENDAR
PRODID:-//hacksw/handcal//NONSGML v1.0//EN
VERSION:2.0
METHOD:PUBLISH
BEGIN:VEVENT
DTSTART:20180518T010000Z
DTEND:20180518T030000Z
LOCATION:Aunt Chiladas at the Pointe Squaw Peak
UID:1508520180518T010000ZEPG Happy Hour Diecisiete de mayo End of Year Party.
DTSTAMP:20260420T042441Z
DESCRIPTION:
SUMMARY:EPG Happy Hour Diecisiete de mayo End of Year Party. - Central Arizona Estate Planning Council 
PRIORITY:3
BEGIN:VALARM
TRIGGER:PT18H
ACTION:DISPLAY
DESCRIPTION:Reminder
END:VALARM
END:VEVENT
END:VCALENDAR