BEGIN:VCALENDAR
PRODID:-//hacksw/handcal//NONSGML v1.0//EN
VERSION:2.0
METHOD:PUBLISH
BEGIN:VEVENT
DTSTART:20171020T003000Z
DTEND:20171020T013000Z
LOCATION:Skeptical Chymist
UID:1508220171020T003000ZEPG Happy Hour 
DTSTAMP:20260420T042608Z
DESCRIPTION:\nJoin us for an EPG Happy Hour!\n
SUMMARY:EPG Happy Hour  - Central Arizona Estate Planning Council 
PRIORITY:3
BEGIN:VALARM
TRIGGER:PT18H
ACTION:DISPLAY
DESCRIPTION:Reminder
END:VALARM
END:VEVENT
END:VCALENDAR