BEGIN:VCALENDAR
PRODID:-//hacksw/handcal//NONSGML v1.0//EN
VERSION:2.0
METHOD:PUBLISH
BEGIN:VEVENT
DTSTART:20170825T003000Z
DTEND:20170825T023000Z
LOCATION:Postino- Arcadia
UID:1495320170825T003000ZEPG Happy Hour
DTSTAMP:20260420T043211Z
DESCRIPTION:\n\n \nThe Central Arizona Estate Planning Council Emerging Professionals Group (EPG) will be kicking off the 2017- 2018 season with a Happy Hour at Postino Arcadia!\n \nWe hope to see you there!\n \nThis is a free event!\n \nThe EPG will be providing appetizers!\n \nCash Bar\n
SUMMARY:EPG Happy Hour - Central Arizona Estate Planning Council 
PRIORITY:3
BEGIN:VALARM
TRIGGER:PT18H
ACTION:DISPLAY
DESCRIPTION:Reminder
END:VALARM
END:VEVENT
END:VCALENDAR