BEGIN:VCALENDAR
PRODID:-//hacksw/handcal//NONSGML v1.0//EN
VERSION:2.0
METHOD:PUBLISH
BEGIN:VEVENT
DTSTART:20171205T003000Z
DTEND:20171205T040000Z
LOCATION:Arizona Historical Society at Papago Park
UID:1483420171205T003000ZHoliday Party and CE: A Primer on Tax, Estate Planning and other Issues Relevant to Art Collection and Their Advisers
DTSTAMP:20260420T042649Z
DESCRIPTION:\nJoin us at the CAEPC Holiday Party and get CE!! \nThis event is at the Arizona Historical Society, Tempe Campus \nAZ Heritage Center at Papago Park 1300 North College Ave., Tempe, AZ 85281\n \n \nDate: Monday, December 4, 2017\n Time: 5:00pm - 8:30pm\n Speaker: Paul Frimmer, Loeb & Loeb, LLP\n \n[Click here for program materials.](/assets/Councils/CentralArizona-AZ/userContent/files/Frimmer%2C%20%20A%20Primer%20on%20Tax%20and%20Other%20Issues%2C%20etc_%20-%20Copy.pdf) \n \nThe evening schedule:\n  5:00pm-5:30pm:  Cocktail Welcome  5:30pm-6:30 pm: CE Presentation: A Primer on Tax, Estate Planning and other Issues Relevant to Art Collection and Their Advisers 6:30pm-8:30 pm: Holiday Party\n (All of the museum galleries will be open for self-guided tours)    \n \nA Primer on Tax, Estate Planning, and other Issues Relevant to Art Collection and Their Advisors\n \nA discussion of tax and other issues faced by collectors of art and other valuable tangible personal property, including, income tax planning, 1031 exchanges,charitable and non-charitable transfer planning, avoidance of sales and use tax, dealing with auction houses and art dealers in disposing of art and other tangible personal property, and the unique tax issues applicable to artists.\n \n \n \n Presenter: Paul Frimmer, Loeb & Loeb, LLP\n \n \n \nPaul Frimmer specializes in estate planning, wills, and trusts, probate and trust administration, post-mortem tax planning, probate litigation, art law, charitable giving and tax issues relating to these matters.\n \nMr. Frimmer has authored and co-authored more than 50 publications on estate planning and related areas. He is also a frequent speaker at national and local estate planning seminars and institutes, including the NYU Tax Institute, the USC Tax Institute, the University of Miami Estate Planning Institute, ALI-ABA seminars, the USC Probate and Trust Institute and the UCLA Estate Planning Institute.\n \nSponsored By:\n  \n \nAZ Heritage Center at Papago Park\n1300 North College Ave., Tempe, AZ 85281\n
SUMMARY:Holiday Party and CE: A Primer on Tax, Estate Planning and other Issues Relevant to Art Collection and Their Advisers - Central Arizona Estate Planning Council 
PRIORITY:3
BEGIN:VALARM
TRIGGER:PT18H
ACTION:DISPLAY
DESCRIPTION:Reminder
END:VALARM
END:VEVENT
END:VCALENDAR