BEGIN:VCALENDAR
PRODID:-//hacksw/handcal//NONSGML v1.0//EN
VERSION:2.0
METHOD:PUBLISH
BEGIN:VEVENT
DTSTART:20171107T000000Z
DTEND:20171107T023000Z
LOCATION:Phoenix Children's Hospital
UID:1483320171107T000000ZCharitable Gifts of Business Assets & Interests…and What Happens When Charitable Gifts Go Awry
DTSTAMP:20260420T042603Z
DESCRIPTION:\nCharitable giving of business interests can be a powerful planning tool for the philanthropically inclined. This presentation will focus on opportunities and pitfalls that exist for donating various types of business assets and interests, including S corporations and LLCs, to charities. This presentation also will discuss the potential involvement of regulators, state attorneys general, and litigants when charitable gifts go awry, including suggestions to avoid those situations.\n \n \n \n  Presenter: Jason Havens, Holland Knight, [Click here for Mr. Havens bio.](/assets/Councils/CentralArizona-AZ/userContent/files/Bio%20-%20Havens(1).docx)\n \n \n \n \n \nSponsored By:\n \n [](http://www.phoenixchildrens.org/)\n \n \n \n \n \n \n
SUMMARY:Charitable Gifts of Business Assets & Interests…and What Happens When Charitable Gifts Go Awry - Central Arizona Estate Planning Council 
PRIORITY:3
BEGIN:VALARM
TRIGGER:PT18H
ACTION:DISPLAY
DESCRIPTION:Reminder
END:VALARM
END:VEVENT
END:VCALENDAR