BEGIN:VCALENDAR
PRODID:-//hacksw/handcal//NONSGML v1.0//EN
VERSION:2.0
METHOD:PUBLISH
BEGIN:VEVENT
DTSTART:20171003T000000Z
DTEND:20171003T023000Z
LOCATION:Phoenix Country Club
UID:1483220171003T000000ZTax Planning for Canadians
DTSTAMP:20260420T042601Z
DESCRIPTION:\nWe live in an increasingly globalized world.  That is profoundly evident in the large number of Canadians moving to or owning property in the United States and the large number of Americans moving to or owning property in Canada.  This seminar will focus on the basics of international tax rules and estate planning considerations for American or Canadian clients that fit this description.  The seminar will point out some of the important foot-faults to avoid and will suggest useful ideas when planning for a client with Canadian connections.\n \n[Meeting Materials](/assets/Councils/CentralArizona-AZ/userContent/files/Tax%20Planning%20For%20Canadians%204831-2934-7652%20v_1(1).pdf)\n \nPresenter:\n \n   Brent Nelson, Snell & Wilmer L.L.P.\n \nBrent Nelson concentrates on estate and tax planning for individuals and businesses. Brent helps individuals develop estate plans in a wide variety of circumstances, from simple plans to complex plans for high net worth individuals and families. Brent assists clients with international estate and tax matters, including reporting compliance with the Internal Revenue Service. He also assists clients with probate and trust administration matters.\n \nBrent's practice also includes helping businesses plan from start to finish, including formation, operation, merger and acquisition, and termination. He also helps business owners develop business succession plans.\n \nBrent also advises clients on tax compliance and audits with the Internal Revenue Service.\n \nBrent is a frequent lecturer and author on estate planning and tax matters. He is the co-author of the Arizona Estate Planning and Probate Handbook (Thomson Reuters).\n \nDinner Menu: \n \nSalad: Butter Lettuce with Red Roma Tomatoes, Roasted Pine Nuts, Parmesan Crisp Balsamic Vinaigrette & Ranch Dressing\n \nRolls & Butter\n \nEntree: Creamy Tuscan Garlic Chicken Breast with Sun Dried Tomatoes and Basil\n \nDessert: Pumpkin Spice Cake Maple Cream Cheese Icing \n \nThank you to our dinner wine sponsor:\n  [](https://www.eidebailly.com/)\n
SUMMARY:Tax Planning for Canadians - Central Arizona Estate Planning Council 
PRIORITY:3
BEGIN:VALARM
TRIGGER:PT18H
ACTION:DISPLAY
DESCRIPTION:Reminder
END:VALARM
END:VEVENT
END:VCALENDAR