BEGIN:VCALENDAR
PRODID:-//hacksw/handcal//NONSGML v1.0//EN
VERSION:2.0
METHOD:PUBLISH
BEGIN:VEVENT
DTSTART:20170518T000000Z
DTEND:20170518T013000Z
LOCATION:352 E. Camelback Rd. Suite 101
UID:1455720170518T000000ZSAVE THE DATE – May 17th 2017
DTSTAMP:20260420T043022Z
DESCRIPTION:\nEPG – Emerging Planner’s Group of Central Arizona Estate Planning Council invite you to a very special event honoring children of Arizona.\n \n\n \n \n \nFree Arts Programs:\n \nWeekly Mentor, Free Arts Days, Camp Series, Professional Artist Series\n \nDonate an art supply in exchange for a complimentary beverage ticket.\n \nHors d’oeuvres will be served.\n \n \n \nThank you to our Corporate Sponsor!\n \n \n  \n  \n 
SUMMARY:SAVE THE DATE – May 17th 2017 - Central Arizona Estate Planning Council 
PRIORITY:3
BEGIN:VALARM
TRIGGER:PT18H
ACTION:DISPLAY
DESCRIPTION:Reminder
END:VALARM
END:VEVENT
END:VCALENDAR