BEGIN:VCALENDAR
PRODID:-//hacksw/handcal//NONSGML v1.0//EN
VERSION:2.0
METHOD:PUBLISH
BEGIN:VEVENT
DTSTART:20170427T200000Z
DTEND:20170427T230000Z
LOCATION:TOPGOLF
UID:1441220170427T200000ZCAEPC TopGolf Event
DTSTAMP:20260420T042929Z
DESCRIPTION:\nRegistration is Closed\n \nTOPGOLF\n \nIt’s like darts, bowling, and golf all in one game!\n \n[Scottsdale at Riverwalk](https://www.google.com/maps?q=Topgolf,+9500+E.+Talking+Stick+Way,+Scottsdale,+AZ,+85256)\n \nThursday, April 27, 2017\n \n1:00 p.m. – 4:00 p.m.\n \nEvent begins promptly at 1:00 p.m.\n \n\n  \nAll players will receive the following:\n 3 Hours Unlimited TOPGOLF Catered Lunch Unlimited Soda, Tea, Water Complimentary Lifetime Membership Player Card Networking with Colleagues   \nAll proceeds support and provide the funds for our great speakers throughout the year.\n \nMember Price: $125\n \nGuest Price: $145\n \nMember Non-Golfer Lunch: $10\n \nNon-Member Lunch: $30\n \nNo golf clubs required, although you may bring your own if you like. TOPGOLF just asks that you leave your Drivers at home or in the car.\n  \nCash Bar\n \nPrizes for various games!\n \n6 Players per Bay - group requests may be added to special request box on registration form.\n \nSponsorships are available for gift cards to be used for various prizes if you want to highlight your company.\n \nThis Event is generously sponsored by \n \n\n \nThanks to DocumentTrunk for sponsoring the prizes!\n \n\n \n \n \n \n
SUMMARY:CAEPC TopGolf Event - Central Arizona Estate Planning Council 
PRIORITY:3
BEGIN:VALARM
TRIGGER:PT18H
ACTION:DISPLAY
DESCRIPTION:Reminder
END:VALARM
END:VEVENT
END:VCALENDAR