BEGIN:VCALENDAR
PRODID:-//hacksw/handcal//NONSGML v1.0//EN
VERSION:2.0
METHOD:PUBLISH
BEGIN:VEVENT
DTSTART:20170405T230000Z
DTEND:20170406T010000Z
LOCATION:Citizens Public House 7111 E. 5th Ave, Scottsdale, AZ 85251
UID:1440520170405T230000ZWinning in the  Retirement Market 
DTSTAMP:20260420T042909Z
DESCRIPTION:\nSAVE THE DATE\n \nWednesday, April 5, 2017, 4:00 p.m. to 6 p.m.\n Winning in the\n Retirement Market\n \nSponsored by Lord Abbett (Courtney Langdon)\n Presented by Brian Dobbis, QKA, QPA, QPFC, TPGC\n \nThe Central Arizona Estate Planning Council and the Accredited Estate Planner (AEP)  committee cordially invite you to a complimentary educational, networking meeting while earning Continuing Educational credits followed by Hors d’oeuvres & Refreshments at:\n \nUPDATE: 5th and Wine has gone out of Business.   Join us at: \n \n \n \n \n \n7111 E. 5th Ave #E\n Scottsdale, AZ 85251\n \n3 doors down from the former 5th and Wine Location\n \n \n \n \n \nEarn 1 AEP, CFP, CIMA, CLU & PACE Continuing Education Credit\n \nA Certificate of Completion and material handout will also be given to self-submit for other organizations, licenses, and designations for possible CE credit\n \nTopics Include:\n  Defining a plan fiduciary\n  Fiduciary “pitfalls”\n Limiting fiduciary liability\n Legislative and regulatory update\n  Using this knowledge to grow your retirement plan business\n
SUMMARY:Winning in the  Retirement Market  - Central Arizona Estate Planning Council 
PRIORITY:3
BEGIN:VALARM
TRIGGER:PT18H
ACTION:DISPLAY
DESCRIPTION:Reminder
END:VALARM
END:VEVENT
END:VCALENDAR