BEGIN:VCALENDAR
PRODID:-//hacksw/handcal//NONSGML v1.0//EN
VERSION:2.0
METHOD:PUBLISH
BEGIN:VEVENT
DTSTART:20161021T010000Z
DTEND:20161021T020000Z
LOCATION:KJZZ & KBACH Studios
UID:1396520161021T010000ZPublic Outreach: Why Do I Need an Estate Plan?
DTSTAMP:20260420T043047Z
DESCRIPTION:\nWatch the Video Webcast!\n  \nKJZZ/KJZZ SPT127/KBACH & Sun Sounds of Arizona Legacy Society in partnership with the Central Arizona Estate Planning Council presents:\n \nBasic Estate Planning Webinar - Why Do I Need an Estate Plan?\n \nThursday, October 20, 2016 from 6:00 p.m. - 7:00 p.m.\n \nJoin panelists:\n Susan Clupak, Fennemore Craig Stephen Barber, Northern Trust Mackenzie Rentschler, Eide Bailly \n[Sign In Here to Register for This Webinar!](https://attendee.gotowebinar.com/register/6337999915962178306)\n \n \n  \n \n \nSponsored by \n  \n\n  \n   \n \n
SUMMARY:Public Outreach: Why Do I Need an Estate Plan? - Central Arizona Estate Planning Council 
PRIORITY:3
BEGIN:VALARM
TRIGGER:PT18H
ACTION:DISPLAY
DESCRIPTION:Reminder
END:VALARM
END:VEVENT
END:VCALENDAR